BEGIN:VCALENDAR
VERSION:2.0
PRODID:-//wp-events-plugin.com//7.2.3.1//EN
BEGIN:VEVENT
UID:15@ancientcattleofwales.org
DTSTART;VALUE=DATE:20140517
DTEND;VALUE=DATE:20140519
DTSTAMP:20230519T114742Z
URL:https://ancientcattleofwales.org/events/spring-festival/
SUMMARY:Spring Festival
DESCRIPTION:The number one event for smallholding\, gardening and sustainab
 le living
LOCATION:Royal Welsh Showground\, Llanelwedd\, Builth Wells\, Powys\, LD2 3
 SY \, United Kingdom
GEO:52.15814409999999;-3.407626700000037
X-APPLE-STRUCTURED-LOCATION;VALUE=URI;X-ADDRESS=Llanelwedd\, Builth Wells\,
  Powys\, LD2 3SY \, United Kingdom;X-APPLE-RADIUS=100;X-TITLE=Royal Welsh 
 Showground:geo:52.15814409999999,-3.407626700000037
END:VEVENT
END:VCALENDAR