BEGIN:VCALENDAR
VERSION:2.0
PRODID:-//wp-events-plugin.com//7.2.3.1//EN
BEGIN:VEVENT
UID:18@ancientcattleofwales.org
DTSTART:20150516T090000Z
DTEND:20150517T180000Z
DTSTAMP:20230519T114743Z
URL:https://ancientcattleofwales.org/events/royal-welsh-spring-festival/
SUMMARY:Royal Welsh Spring Festival
DESCRIPTION:Come and visit us at "the number one event for smallholding\, g
 ardening and sustainable living" at the Royal Welsh Showground
LOCATION:Royal Welsh Showground\, Llanelwedd\, Builth Wells\, Powys\, LD2 3
 SY \, United Kingdom
GEO:52.15814409999999;-3.407626700000037
X-APPLE-STRUCTURED-LOCATION;VALUE=URI;X-ADDRESS=Llanelwedd\, Builth Wells\,
  Powys\, LD2 3SY \, United Kingdom;X-APPLE-RADIUS=100;X-TITLE=Royal Welsh 
 Showground:geo:52.15814409999999,-3.407626700000037
END:VEVENT
END:VCALENDAR