BEGIN:VCALENDAR
VERSION:2.0
PRODID:-//wp-events-plugin.com//7.2.3.1//EN
BEGIN:VEVENT
UID:8@ancientcattleofwales.org
DTSTART;VALUE=DATE:20130921
DTEND;VALUE=DATE:20130922
DTSTAMP:20130321T160919Z
URL:https://ancientcattleofwales.org/events/ancient-cattle-agm/
SUMMARY:Ancient Cattle AGM
DESCRIPTION:
CATEGORIES:Ancient Cattle of Wales Events
LOCATION:Mid Ceredigion \, TBC\, TBC\, United Kingdom
X-APPLE-STRUCTURED-LOCATION;VALUE=URI;X-ADDRESS=TBC\, TBC\, United Kingdom;
 X-APPLE-RADIUS=100;X-TITLE=Mid Ceredigion :geo:0,0
END:VEVENT
END:VCALENDAR