BEGIN:VCALENDAR
VERSION:2.0
PRODID:-//wp-events-plugin.com//7.2.3.1//EN
BEGIN:VEVENT
UID:16@ancientcattleofwales.org
DTSTART:20140927T130000Z
DTEND:20140927T210000Z
DTSTAMP:20230519T114743Z
URL:https://ancientcattleofwales.org/events/agm-2014/
SUMMARY:AGM 2014
DESCRIPTION:Our AGM this year is to be held on Saturday\, 27th September 20
 14\, in the Kidwelly area by the kind invitation of Tegwen Burns and famil
 y of Penlan Uchaf\, Kidwelly\, Carmarthenshire.\n\n&nbsp\;\n\n&nbsp\;\n\nT
 he arrangements are as follows:\n\n1.00pm:  Arrivals\, welcome and light 
 refreshments\n\n1.30pm:  Trailer tour of Penlan Farm and the Morfydd herd
 \n\n4.30pm:  Tea and biscuits\n\n5.00pm:  Transfer to Red Lion\, Llandyf
 aelog\n\n5.30pm:  AGM at Red Lion\n\n7.00pm:  Photo show and evening mea
 l\n\n&nbsp\;\n\nYou can join the tour at Penlan Farm at 1.00pm or join us 
 at the Red Lion after 5.00pm.\n\n&nbsp\;\n\nThe postcodes for your sat nav
  are:\n\n	Penlan Uchaf\, Carmarthen Road\, Kidwelly\, SA17 5AF\n	Red Lion\
 , Llandyfaelog\, Kidwelly\, SA17 5PR. \n\n&nbsp\;\n\nA bar meal will be a
 vailable at the Red Lion\, as always. We can order on arrival but please l
 et Sian know of your intentions by Sunday 21st September. See you all ther
 e – and bring a new member! \n\n&nbsp\;
LOCATION:Y Llew Coch / Red Lion\, Llandyfaelog\, Kidwelly\, SA17 5PR\, Unit
 ed Kingdom
GEO:51.78201110000001;-4.299579499999936
X-APPLE-STRUCTURED-LOCATION;VALUE=URI;X-ADDRESS=Llandyfaelog\, Kidwelly\, S
 A17 5PR\, United Kingdom;X-APPLE-RADIUS=100;X-TITLE=Y Llew Coch / Red Lion
 :geo:51.78201110000001,-4.299579499999936
END:VEVENT
END:VCALENDAR