BEGIN:VCALENDAR
VERSION:2.0
PRODID:-//wp-events-plugin.com//7.2.3.1//EN
BEGIN:VEVENT
UID:17@ancientcattleofwales.org
DTSTART;VALUE=DATE:20141201
DTEND;VALUE=DATE:20141203
DTSTAMP:20230519T114743Z
URL:https://ancientcattleofwales.org/events/2014-winter-fair/
SUMMARY:2014 Winter Fair
DESCRIPTION:Come and celebrate Christmas and witness the finest prime stock
  show in Europe at this year’s 25th Royal Welsh Winter Fair.\n\nWill the
 re be any Ancient Cattle competing this year?  Come and find out....
LOCATION:Royal Welsh Showground\, Llanelwedd\, Builth Wells\, Powys\, LD2 3
 SY \, United Kingdom
GEO:52.15814409999999;-3.407626700000037
X-APPLE-STRUCTURED-LOCATION;VALUE=URI;X-ADDRESS=Llanelwedd\, Builth Wells\,
  Powys\, LD2 3SY \, United Kingdom;X-APPLE-RADIUS=100;X-TITLE=Royal Welsh 
 Showground:geo:52.15814409999999,-3.407626700000037
END:VEVENT
END:VCALENDAR